BEGIN:VCALENDAR
VERSION:2.0
PRODID:-//Black Wall Street Reno - ECPv6.15.20//NONSGML v1.0//EN
CALSCALE:GREGORIAN
METHOD:PUBLISH
X-WR-CALNAME:Black Wall Street Reno
X-ORIGINAL-URL:https://blackwallstreetreno.org
X-WR-CALDESC:Events for Black Wall Street Reno
REFRESH-INTERVAL;VALUE=DURATION:PT1H
X-Robots-Tag:noindex
X-PUBLISHED-TTL:PT1H
BEGIN:VTIMEZONE
TZID:America/Los_Angeles
BEGIN:DAYLIGHT
TZOFFSETFROM:-0800
TZOFFSETTO:-0700
TZNAME:PDT
DTSTART:20210314T100000
END:DAYLIGHT
BEGIN:STANDARD
TZOFFSETFROM:-0700
TZOFFSETTO:-0800
TZNAME:PST
DTSTART:20211107T090000
END:STANDARD
BEGIN:DAYLIGHT
TZOFFSETFROM:-0800
TZOFFSETTO:-0700
TZNAME:PDT
DTSTART:20220313T100000
END:DAYLIGHT
BEGIN:STANDARD
TZOFFSETFROM:-0700
TZOFFSETTO:-0800
TZNAME:PST
DTSTART:20221106T090000
END:STANDARD
BEGIN:DAYLIGHT
TZOFFSETFROM:-0800
TZOFFSETTO:-0700
TZNAME:PDT
DTSTART:20230312T100000
END:DAYLIGHT
BEGIN:STANDARD
TZOFFSETFROM:-0700
TZOFFSETTO:-0800
TZNAME:PST
DTSTART:20231105T090000
END:STANDARD
END:VTIMEZONE
BEGIN:VEVENT
DTSTART;TZID=America/Los_Angeles:20220906T120000
DTEND;TZID=America/Los_Angeles:20220906T160000
DTSTAMP:20260424T141809
CREATED:20220815T014014Z
LAST-MODIFIED:20220815T015344Z
UID:2850-1662465600-1662480000@blackwallstreetreno.org
SUMMARY:"Public Narrative Training" Course
DESCRIPTION:Join public narrative trainer Rosi Greenburg and artist Joseph Green for this experimental workshop to learn how to share your stories in powerful ways and use storytelling in your leadership. This workshop is based on Public Narrative\, the leadership practice taught by Professor Marshall Ganz at Harvard University. \n\n\n\nSpace is limited so all participants must register before the event. You must be able to attend the full four hours to attend this workshop as the elements build on one another and go deep. We will have several breaks during the time.
URL:https://blackwallstreetreno.org/event/public-narrative-training/
LOCATION:Renaissance Reno Downtown Hotel & Spa\, One Lake St. Reno\, Reno\, NV\, 89501\, United States
CATEGORIES:Classes & Training
ATTACH;FMTTYPE=image/jpeg:https://blackwallstreetreno.org/wp-content/uploads/2022/08/Public-Narrative-Training-Connection-Power-and-Change.jpg
ORGANIZER;CN="Foundation for Recovery":MAILTO:info@forrecovery.org
END:VEVENT
BEGIN:VEVENT
DTSTART;TZID=America/Los_Angeles:20220906T170000
DTEND;TZID=America/Los_Angeles:20220906T193000
DTSTAMP:20260424T141809
CREATED:20220815T011749Z
LAST-MODIFIED:20220815T013521Z
UID:2836-1662483600-1662492600@blackwallstreetreno.org
SUMMARY:Mobilize Recovery Across America Tour
DESCRIPTION:Be part of one of the first stops of the nationwide Mobilize Recovery Bus Tour. Sign the bus and leave a message of hope for others in our country. Join Recovery Advocates\, Leaders\, and Community Members for this one-of-a-kind event as we celebrate National Recovery Month. Enjoy an evening of connection\, speakers\, and resources. \n\n\n\nPresented by the Foundation for Recovery\, this Free event will help to highlight the recovery experiences unique to regions throughout the United States and Nevada. The event is Free to attend but advanced registration is encouraged.
URL:https://blackwallstreetreno.org/event/mobilize-recovery-across-america-tour/
LOCATION:Reno BELIEVE Sign in City Plaza\, 10 North Virginia Street\, Reno\, 89501\, United States
CATEGORIES:Activity,Classes & Training
ATTACH;FMTTYPE=image/jpeg:https://blackwallstreetreno.org/wp-content/uploads/2022/08/Mobilize-Recovery-Across-America.jpg
ORGANIZER;CN="Foundation for Recovery":MAILTO:info@forrecovery.org
END:VEVENT
END:VCALENDAR