BEGIN:VCALENDAR
VERSION:2.0
PRODID:-//Black Wall Street Reno - ECPv6.15.20//NONSGML v1.0//EN
CALSCALE:GREGORIAN
METHOD:PUBLISH
X-WR-CALNAME:Black Wall Street Reno
X-ORIGINAL-URL:https://blackwallstreetreno.org
X-WR-CALDESC:Events for Black Wall Street Reno
REFRESH-INTERVAL;VALUE=DURATION:PT1H
X-Robots-Tag:noindex
X-PUBLISHED-TTL:PT1H
BEGIN:VTIMEZONE
TZID:America/Los_Angeles
BEGIN:DAYLIGHT
TZOFFSETFROM:-0800
TZOFFSETTO:-0700
TZNAME:PDT
DTSTART:20210314T100000
END:DAYLIGHT
BEGIN:STANDARD
TZOFFSETFROM:-0700
TZOFFSETTO:-0800
TZNAME:PST
DTSTART:20211107T090000
END:STANDARD
BEGIN:DAYLIGHT
TZOFFSETFROM:-0800
TZOFFSETTO:-0700
TZNAME:PDT
DTSTART:20220313T100000
END:DAYLIGHT
BEGIN:STANDARD
TZOFFSETFROM:-0700
TZOFFSETTO:-0800
TZNAME:PST
DTSTART:20221106T090000
END:STANDARD
BEGIN:DAYLIGHT
TZOFFSETFROM:-0800
TZOFFSETTO:-0700
TZNAME:PDT
DTSTART:20230312T100000
END:DAYLIGHT
BEGIN:STANDARD
TZOFFSETFROM:-0700
TZOFFSETTO:-0800
TZNAME:PST
DTSTART:20231105T090000
END:STANDARD
END:VTIMEZONE
BEGIN:VEVENT
DTSTART;TZID=America/Los_Angeles:20220820T150000
DTEND;TZID=America/Los_Angeles:20220820T173000
DTSTAMP:20260424T204151
CREATED:20220803T061851Z
LAST-MODIFIED:20240806T203819Z
UID:2751-1661007600-1661016600@blackwallstreetreno.org
SUMMARY:NARCAN Training on August 20th\, 2022
DESCRIPTION:PLEASE NOTE – THIS EVENT HAS BEEN CANCELED\n\n\n\n\n\n\n\nThis NARCAN training event will help you learn how to administer NARCAN nasal spray to a person who is overdosing on opiates. If you are interested in attending this NARCAN training event\, please call us for more information.
URL:https://blackwallstreetreno.org/event/narcan-training-event-08-20-22/
LOCATION:Black Wall Street\, 301 Cordone Ave Suite LL40\, Reno\, NV\, 89502\, United States
CATEGORIES:Classes & Training
ATTACH;FMTTYPE=image/jpeg:https://blackwallstreetreno.org/wp-content/uploads/2022/08/NARCAN-Training-Event.jpg
ORGANIZER;CN="Donald Griffin & RoMar Tolliver":MAILTO:info@blackwallstreetreno.org
END:VEVENT
BEGIN:VEVENT
DTSTART;TZID=America/Los_Angeles:20220813T070000
DTEND;TZID=America/Los_Angeles:20220813T170000
DTSTAMP:20260424T204151
CREATED:20220804T231401Z
LAST-MODIFIED:20250622T222523Z
UID:2823-1660374000-1660410000@blackwallstreetreno.org
SUMMARY:Suicide Prevention/ Zip Lining
DESCRIPTION:
URL:https://blackwallstreetreno.org/event/suicide-prevention-zip-lining/
LOCATION:Project Discovery “Sky Tavern”\, 1110 Sky Tavern Rd\, Reno\, 89511\, United States
CATEGORIES:Activity
ATTACH;FMTTYPE=image/jpeg:https://blackwallstreetreno.org/wp-content/uploads/2022/07/20220709_113041-scaled.jpg
ORGANIZER;CN="Donald Griffin & RoMar Tolliver":MAILTO:info@blackwallstreetreno.org
END:VEVENT
END:VCALENDAR